BEGIN:VCALENDAR
VERSION:2.0
PRODID:-//MissouriAuctions.net v1//EN
BEGIN:VEVENT
DTSTAMP:20260421T111137Z
STATUS:CONFIRMED
UID:0bae3611254d700a0b1150d962a7ab92@MissouriAuctions.net
DTSTART:20260615T230000Z
DTEND:20260616T000000Z
SUMMARY:Monday Night Auction - Ron Stricker's Auction
DESCRIPTION:Monday Night Auction
  https://www.missouriauctions.net/calendar/ronstricker/69814/
LOCATION:790 N Center St Gardner, KS
TRANSP:OPAQUE
END:VEVENT
END:VCALENDAR