BEGIN:VCALENDAR
VERSION:2.0
PRODID:-//MissouriAuctions.net v1//EN
BEGIN:VEVENT
DTSTAMP:20260421T115400Z
STATUS:CONFIRMED
UID:6b501767112d2aa457db39ed7307d837@MissouriAuctions.net
DTSTART:20260518T230000Z
DTEND:20260519T000000Z
SUMMARY:Monday Night Auction - Ron Stricker's Auction
DESCRIPTION:Monday Night Auction
  https://www.missouriauctions.net/calendar/ronstricker/69812/
LOCATION:790 N Center St Gardner, KS
TRANSP:OPAQUE
END:VEVENT
END:VCALENDAR