BEGIN:VCALENDAR
VERSION:2.0
PRODID:-//MissouriAuctions.net v1//EN
BEGIN:VEVENT
DTSTAMP:20260420T101914Z
STATUS:CONFIRMED
UID:fec1cf55215ed973ebd2a3a488e66d8c@MissouriAuctions.net
DTSTART:20260314T143000Z
DTEND:20260314T153000Z
SUMMARY:Public Auction - Kooser Auction Service
DESCRIPTION:Household (Modern & Antique), Tools & Misc.
  https://www.missouriauctions.net/calendar/kooser/69750/
LOCATION:4814 S W Cochise Ave Topeka, KS
TRANSP:OPAQUE
END:VEVENT
END:VCALENDAR