BEGIN:VCALENDAR
VERSION:2.0
PRODID:-//MissouriAuctions.net v1//EN
BEGIN:VEVENT
DTSTAMP:20260421T094319Z
STATUS:CONFIRMED
UID:7d0b60fc659d7146396936bc2fab5e9b@MissouriAuctions.net
DTSTART:20260502T133000Z
DTEND:20260502T143000Z
SUMMARY:Consignment Auction - Carr Auction & Real Estate, Inc.
DESCRIPTION:Annual Spring Farm & Shop Consignment
  https://www.missouriauctions.net/calendar/carr/69734/
LOCATION:909 Auction Ave Larned, KS
TRANSP:OPAQUE
END:VEVENT
END:VCALENDAR