BEGIN:VCALENDAR
VERSION:2.0
PRODID:-//MissouriAuctions.net v1//EN
BEGIN:VEVENT
DTSTAMP:20260421T115711Z
STATUS:CONFIRMED
UID:9ab334b4dbc25ed5610bc2cc1cf27e8f@MissouriAuctions.net
DTSTART:20260520T230000Z
DTEND:20260521T000000Z
SUMMARY:Public Auction - Carrell Auctions
DESCRIPTION:Wednesday Night Live Auction
  https://www.missouriauctions.net/calendar/carrell/69700/
LOCATION:1722 S Harris Ave Independence, MO
TRANSP:OPAQUE
END:VEVENT
END:VCALENDAR