BEGIN:VCALENDAR
VERSION:2.0
PRODID:-//MissouriAuctions.net v1//EN
BEGIN:VEVENT
DTSTAMP:20260421T135601Z
STATUS:CONFIRMED
UID:289a379c98c592970f740c0980031adf@MissouriAuctions.net
DTSTART:20260429T230000Z
DTEND:20260430T000000Z
SUMMARY:Public Auction - Carrell Auctions
DESCRIPTION:Wednesday Night Live Auction
  https://www.missouriauctions.net/calendar/carrell/69403/
LOCATION:1722 S Harris Ave Independence, MO
TRANSP:OPAQUE
END:VEVENT
END:VCALENDAR