BEGIN:VCALENDAR
VERSION:2.0
PRODID:-//MissouriAuctions.net v1//EN
BEGIN:VEVENT
DTSTAMP:20260424T180239Z
STATUS:CONFIRMED
UID:791f16124de2f6ea964012d32c3fc731@MissouriAuctions.net
DTSTART:20251109T190000Z
DTEND:20251109T200000Z
SUMMARY:Real Estate Auction - Circle L Auction Service
DESCRIPTION:Living Estate of Mr. Pat Patterson. Excellent Real Estate
  Auction!! Nice 3 Bedroom Home on 4.8 Acre Lot with Timber!!! Large Front
  Porch, Central Heat & Air!!! Check This One Out!!! Nice Location!!!
  https://www.missouriauctions.net/calendar/circlel/68866/
LOCATION:3132 Brenda Ln Greenwood Dr Joplin, MO
TRANSP:OPAQUE
END:VEVENT
END:VCALENDAR