BEGIN:VCALENDAR
VERSION:2.0
PRODID:-//MissouriAuctions.net v1//EN
BEGIN:VEVENT
DTSTAMP:20260419T140436Z
STATUS:CONFIRMED
UID:8f4fedd50ed8e98b146e08c39abab180@MissouriAuctions.net
DTSTART:20250824T160000Z
DTEND:20250824T170000Z
SUMMARY:Public Auction - Branden Otto Auctioneering
DESCRIPTION:*30+ vehicles & more-many makes, various running & body
  conditions, mileage, etc*
  https://www.missouriauctions.net/calendar/otto/68060/
LOCATION:20160 W 191st St Spring Hill, KS
TRANSP:OPAQUE
END:VEVENT
END:VCALENDAR