BEGIN:VCALENDAR
VERSION:2.0
PRODID:-//MissouriAuctions.net v1//EN
BEGIN:VEVENT
DTSTAMP:20260419T141015Z
STATUS:CONFIRMED
UID:0225e304ef639c9818a30a90f9b5cca2@MissouriAuctions.net
DTSTART:20240728T160000Z
DTEND:20240728T170000Z
SUMMARY:Auto Auction - Branden Otto Auctioneering
DESCRIPTION:*20+ vehicles, 1 trailer, many makes, various running & body
  conditions, mileage, etc,*
  https://www.missouriauctions.net/calendar/otto/64280/
LOCATION:20160 W 191st St Spring Hill, KS
TRANSP:OPAQUE
END:VEVENT
END:VCALENDAR