BEGIN:VCALENDAR
VERSION:2.0
PRODID:-//MissouriAuctions.net v1//EN
BEGIN:VEVENT
DTSTAMP:20260421T094601Z
STATUS:CONFIRMED
UID:bd4adb7b78ab09de9c7cf15521f7c714@MissouriAuctions.net
DTSTART:20230930T140000Z
DTEND:20230930T150000Z
SUMMARY:Public Auction - Branden Otto Auctioneering
DESCRIPTION:Tractors & Equipment, Gator, Greenhouse Equipment & Supplies,
  Shop Equipment, Tools & Materials, Retail Displays, Fixtures, Inventory
  https://www.missouriauctions.net/calendar/otto/61323/
LOCATION:264 E 2100 Rd Wellsville, KS
TRANSP:OPAQUE
END:VEVENT
END:VCALENDAR