BEGIN:VCALENDAR
VERSION:2.0
PRODID:-//MissouriAuctions.net v1//EN
BEGIN:VEVENT
DTSTAMP:20260419T141602Z
STATUS:CONFIRMED
UID:9784c6f29879392547f10827e27f72bf@MissouriAuctions.net
DTSTART:20220612T150000Z
DTEND:20220612T160000Z
SUMMARY:Public Auction - Branden Otto Auctioneering
DESCRIPTION:Guns, Boats & Hunting, Vehicle, Shop, Electric & Misc
  https://www.missouriauctions.net/calendar/otto/54752/
LOCATION:38651 W 231st Rd Wellsville, KS
TRANSP:OPAQUE
END:VEVENT
END:VCALENDAR